BEGIN:VCALENDAR
VERSION:2.0
PRODID:-//NERFU - ECPv6.15.13.1//NONSGML v1.0//EN
CALSCALE:GREGORIAN
METHOD:PUBLISH
X-WR-CALNAME:NERFU
X-ORIGINAL-URL:https://nerfu.rugby
X-WR-CALDESC:Events for NERFU
REFRESH-INTERVAL;VALUE=DURATION:PT1H
X-Robots-Tag:noindex
X-PUBLISHED-TTL:PT1H
BEGIN:VTIMEZONE
TZID:America/New_York
BEGIN:DAYLIGHT
TZOFFSETFROM:-0500
TZOFFSETTO:-0400
TZNAME:EDT
DTSTART:20240310T070000
END:DAYLIGHT
BEGIN:STANDARD
TZOFFSETFROM:-0400
TZOFFSETTO:-0500
TZNAME:EST
DTSTART:20241103T060000
END:STANDARD
BEGIN:DAYLIGHT
TZOFFSETFROM:-0500
TZOFFSETTO:-0400
TZNAME:EDT
DTSTART:20250309T070000
END:DAYLIGHT
BEGIN:STANDARD
TZOFFSETFROM:-0400
TZOFFSETTO:-0500
TZNAME:EST
DTSTART:20251102T060000
END:STANDARD
BEGIN:DAYLIGHT
TZOFFSETFROM:-0500
TZOFFSETTO:-0400
TZNAME:EDT
DTSTART:20260308T070000
END:DAYLIGHT
BEGIN:STANDARD
TZOFFSETFROM:-0400
TZOFFSETTO:-0500
TZNAME:EST
DTSTART:20261101T060000
END:STANDARD
END:VTIMEZONE
BEGIN:VEVENT
DTSTART;VALUE=DATE:20250530
DTEND;VALUE=DATE:20250602
DTSTAMP:20260423T101634
CREATED:20240806T114435Z
LAST-MODIFIED:20250513T211142Z
UID:10000057-1748563200-1748822399@nerfu.rugby
SUMMARY:NORAM Cup: Boston 2025
DESCRIPTION:The North America (NORAM) Cup is a biennial gay and inclusive rugby tournament\, and the largest rugby union tournament in North America. The inaugural NORAM Cup was in 2023\, hosted by the Charlotte Royals in North Carolina. The host city and club for the 2025 tournament is Boston\, Massachusetts and the Boston Ironsides RFC. \nThe 2025 NORAM Championship will field two divisions\, Men’s+ and Women’s+\, as well as a Trans Match. \nSimilar to the Bingham Cup and the Union Cup on an international and European scale respectively and held biennially\, the NORAM Cup focuses on promoting inclusivity\, diversity\, and camaraderie within the rugby community specifically in North America. It brings together LGBTQ+ rugby teams and allies from various parts of North America to compete in a spirit of sportsmanship and celebration. \nThe tournament provides a platform for teams to showcase their skills\, athleticism\, and dedication to the sport while fostering a sense of community\, acceptance\, and respect. It emphasizes the values of inclusivity and equality in sports\, allowing LGBTQ+ individuals to participate in rugby in a welcoming environment. \nThe NORAM Cup serves as a testament to the commitment of IGR and its member clubs in North America to create a space where everyone\, regardless of sexual orientation or gender identity\, can enjoy rugby and contribute to a positive and inclusive rugby culture.
URL:https://nerfu.rugby/event/noram-cup-boston-2025/
CATEGORIES:Tournament
ATTACH;FMTTYPE=image/png:https://nerfu.rugby/wp-content/uploads/2024/08/noramcup2025.png
END:VEVENT
END:VCALENDAR